BEGIN:VCALENDAR
VERSION:2.0
PRODID:-//Van Buren County - ECPv6.15.20//NONSGML v1.0//EN
CALSCALE:GREGORIAN
METHOD:PUBLISH
X-WR-CALNAME:Van Buren County
X-ORIGINAL-URL:https://vanburencountymi.gov
X-WR-CALDESC:Events for Van Buren County
REFRESH-INTERVAL;VALUE=DURATION:PT1H
X-Robots-Tag:noindex
X-PUBLISHED-TTL:PT1H
BEGIN:VTIMEZONE
TZID:America/Detroit
BEGIN:DAYLIGHT
TZOFFSETFROM:-0500
TZOFFSETTO:-0400
TZNAME:EDT
DTSTART:20240310T070000
END:DAYLIGHT
BEGIN:STANDARD
TZOFFSETFROM:-0400
TZOFFSETTO:-0500
TZNAME:EST
DTSTART:20241103T060000
END:STANDARD
BEGIN:DAYLIGHT
TZOFFSETFROM:-0500
TZOFFSETTO:-0400
TZNAME:EDT
DTSTART:20250309T070000
END:DAYLIGHT
BEGIN:STANDARD
TZOFFSETFROM:-0400
TZOFFSETTO:-0500
TZNAME:EST
DTSTART:20251102T060000
END:STANDARD
BEGIN:DAYLIGHT
TZOFFSETFROM:-0500
TZOFFSETTO:-0400
TZNAME:EDT
DTSTART:20260308T070000
END:DAYLIGHT
BEGIN:STANDARD
TZOFFSETFROM:-0400
TZOFFSETTO:-0500
TZNAME:EST
DTSTART:20261101T060000
END:STANDARD
END:VTIMEZONE
BEGIN:VEVENT
DTSTART;TZID=America/Detroit:20251025T100000
DTEND;TZID=America/Detroit:20251025T140000
DTSTAMP:20260425T163324
CREATED:20251015T201937Z
LAST-MODIFIED:20251015T201937Z
UID:10001347-1761386400-1761400800@vanburencountymi.gov
SUMMARY:DEA National Prescription Drug Take Back Day
DESCRIPTION:Van Buren County is proud to participate in the DEA National Prescription Drug Take Back Day on Saturday\, October 25\, from 10 a.m. to 2 p.m. This national initiative provides a safe\, convenient\, and responsible way to dispose of unused or expired prescription medications\, helping prevent medication misuse and environmental harm. \n  \nTwo convenient drop-off locations will be available: \n  \n📍 Bronson Wellness Center – 950 S. Bailey Avenue\, South Haven\, MI 49090 \n📍 Van Buren County Mental Health – 801 Hazen Street\, Paw Paw\, MI 49079 \n  \nPlease consider taking a moment to check your medicine cabinets and safely dispose of any unused prescription medications!
URL:https://vanburencountymi.gov/event/dea-national-prescription-drug-take-back-day/
LOCATION:Bronson Wellness Center\, 950 S. Bailey Avenue\, South Haven\, 49090\, United States
ATTACH;FMTTYPE=image/jpeg:https://eadn-wc02-15234651.nxedge.io/wp-content/uploads/2025/10/DEA-National-Take-Back-Day-Oct.-25-2025.jpg
END:VEVENT
END:VCALENDAR