BEGIN:VCALENDAR
VERSION:2.0
PRODID:-//Van Buren County - ECPv6.15.20//NONSGML v1.0//EN
CALSCALE:GREGORIAN
METHOD:PUBLISH
X-ORIGINAL-URL:https://vanburencountymi.gov
X-WR-CALDESC:Events for Van Buren County
REFRESH-INTERVAL;VALUE=DURATION:PT1H
X-Robots-Tag:noindex
X-PUBLISHED-TTL:PT1H
BEGIN:VTIMEZONE
TZID:America/Detroit
BEGIN:DAYLIGHT
TZOFFSETFROM:-0500
TZOFFSETTO:-0400
TZNAME:EDT
DTSTART:20240310T070000
END:DAYLIGHT
BEGIN:STANDARD
TZOFFSETFROM:-0400
TZOFFSETTO:-0500
TZNAME:EST
DTSTART:20241103T060000
END:STANDARD
BEGIN:DAYLIGHT
TZOFFSETFROM:-0500
TZOFFSETTO:-0400
TZNAME:EDT
DTSTART:20250309T070000
END:DAYLIGHT
BEGIN:STANDARD
TZOFFSETFROM:-0400
TZOFFSETTO:-0500
TZNAME:EST
DTSTART:20251102T060000
END:STANDARD
BEGIN:DAYLIGHT
TZOFFSETFROM:-0500
TZOFFSETTO:-0400
TZNAME:EDT
DTSTART:20260308T070000
END:DAYLIGHT
BEGIN:STANDARD
TZOFFSETFROM:-0400
TZOFFSETTO:-0500
TZNAME:EST
DTSTART:20261101T060000
END:STANDARD
END:VTIMEZONE
BEGIN:VEVENT
DTSTART;TZID=America/Detroit:20251210T093000
DTEND;TZID=America/Detroit:20251210T113000
DTSTAMP:20260425T145140
CREATED:20250520T144405Z
LAST-MODIFIED:20250520T144645Z
UID:10000197-1765359000-1765366200@vanburencountymi.gov
SUMMARY:Homeless Veteran Outreach
DESCRIPTION:Help For Homeless Veterans \nSecond Wednesday of Every Month \n9:30am  – 11:30am
URL:https://vanburencountymi.gov/event/homeless-veteran-outreach/2025-12-10/
LOCATION:Veterans Services Office\, 226 E Michigan Ave\, PAW PAW\, MI\, 49079\, United States
ATTACH;FMTTYPE=image/png:https://vanburencountymi.gov/wp-content/uploads/2025/05/VA Homeless Veteran Flyer.PNG
ORGANIZER;CN="Rudy Verbos":MAILTO:rudolph.verbos@va.gov
END:VEVENT
BEGIN:VEVENT
DTSTART;TZID=America/Detroit:20251030T180000
DTEND;TZID=America/Detroit:20251030T200000
DTSTAMP:20260425T145140
CREATED:20250919T173301Z
LAST-MODIFIED:20250919T173345Z
UID:10001344-1761847200-1761854400@vanburencountymi.gov
SUMMARY:Van Buren County Veterans Social
DESCRIPTION:
URL:https://vanburencountymi.gov/event/van-buren-county-veterans-social-2/2025-10-30/
LOCATION:Veterans Services Office\, 226 E Michigan Ave\, PAW PAW\, MI\, 49079\, United States
ATTACH;FMTTYPE=image/png:https://eadn-wc02-15234651.nxedge.io/wp-content/uploads/2025/09/Veterans-Social-Featured-Image.png
END:VEVENT
BEGIN:VEVENT
DTSTART;TZID=America/Detroit:20251010T100000
DTEND;TZID=America/Detroit:20251010T140000
DTSTAMP:20260425T145140
CREATED:20250919T171259Z
LAST-MODIFIED:20250919T174209Z
UID:10001342-1760090400-1760104800@vanburencountymi.gov
SUMMARY:Stand Down 2025
DESCRIPTION:Veterans Stand Down Services\nAvailable Information and Services Include:\n\nHealth Care for Homeless Veterans\nVA Nutrition Services\nBuddy to Buddy\nSurplus Items\nPost 9/11 Services\nMVAA\nTrust Fund\nSoldier & Sailors\nWest MI Veterans\nVocational Rehabilitation\nMembership to American Legion\nSupportive Services for Veteran Families\nOther VA Services\n\nYou MUST bring a government issued picture ID.  Also encouraged to bring DD214 or VA ID.  If you need assistance obtaining a copy of your DD 214\, please contact the Van Buren Veteran’s Affairs Office at (269) 270-4822. \nConnect with all your community has to offer you! \nFor questions regarding this event or services offered\, please contact Melanie Hooker at (269) 655-9008 or email at mhookerva1@live.com.
URL:https://vanburencountymi.gov/event/stand-down-2025/
LOCATION:Decatur VFW\, 560 N. Phelps St.\, Decatur\, 49045\, United States
ATTACH;FMTTYPE=image/png:https://eadn-wc02-15234651.nxedge.io/wp-content/uploads/2025/09/Veteran-Standdown.png
END:VEVENT
BEGIN:VEVENT
DTSTART;TZID=America/Detroit:20250529T180000
DTEND;TZID=America/Detroit:20250529T200000
DTSTAMP:20260425T145140
CREATED:20250520T150639Z
LAST-MODIFIED:20250520T150706Z
UID:10000251-1748541600-1748548800@vanburencountymi.gov
SUMMARY:Van Buren County Veterans Social
DESCRIPTION:
URL:https://vanburencountymi.gov/event/van-buren-county-veterans-social/
LOCATION:Veterans Services Office\, 226 E Michigan Ave\, PAW PAW\, MI\, 49079\, United States
ATTACH;FMTTYPE=image/png:https://vanburencountymi.gov/wp-content/uploads/2025/05/May Monthly Veterans Social.PNG
END:VEVENT
BEGIN:VEVENT
DTSTART;TZID=America/Detroit:20250526T093000
DTEND;TZID=America/Detroit:20250526T093000
DTSTAMP:20260425T145141
CREATED:20250520T124740Z
LAST-MODIFIED:20250520T133318Z
UID:10000189-1748251800-1748251800@vanburencountymi.gov
SUMMARY:Covert Township Memorial Day Parade
DESCRIPTION:You’re Invited to Join Us in Honoring Our Heroes\nCovert Township cordially invites you\, your family\, friends\, organization and/or business to participate in the 2025 Memorial Day Parade – a cherished community tradition honoring the brave men and women who made the ultimate sacrifice in service to our country. \nSponsored by the Covert Community Foundation\, Covert Lions Club & Covert Township\n\nSchedule of Events\n9:30 AM – WREATH LAYING CEREMONY\nCovert Veterans’ Memorial\, 34068 M-140 Hwy\, Covert \n10:00 AM – PARADE\nBegins at Covert Public Schools back parking lot \nParade proceeds north on M-140 and concludes at Covert Cemetery \nFollowing the Parade – MEMORIAL SERVICE\nCovert Cemetery\, 73701 Cemetery Street\, Covert \nConclusion – REFRESHMENTS\nCovert Branch Library\, 33680 M-140 Hwy\, Covert \nInterested in participating in the parade?\nFill out and return this form: Memorial Day Parade Parade Entry Form. \n\nParade Etiquette Reminder\nFor the safety and enjoyment of all\, please refrain from political campaigning and from throwing items (like candy) into the roadway during the parade.
URL:https://vanburencountymi.gov/event/covert-township-memorial-day-parade/
LOCATION:Covert Veterans’ Memorial\, 34068 M-140\, Covert\, MI\, 49043\, United States
ATTACH;FMTTYPE=image/png:https://vanburencountymi.gov/wp-content/uploads/2025/05/Screenshot 2025-04-28 153320.png
END:VEVENT
END:VCALENDAR