BEGIN:VCALENDAR
VERSION:2.0
PRODID:-//Van Buren County - ECPv6.15.20//NONSGML v1.0//EN
CALSCALE:GREGORIAN
METHOD:PUBLISH
X-ORIGINAL-URL:https://vanburencountymi.gov
X-WR-CALDESC:Events for Van Buren County
REFRESH-INTERVAL;VALUE=DURATION:PT1H
X-Robots-Tag:noindex
X-PUBLISHED-TTL:PT1H
BEGIN:VTIMEZONE
TZID:America/Detroit
BEGIN:DAYLIGHT
TZOFFSETFROM:-0500
TZOFFSETTO:-0400
TZNAME:EDT
DTSTART:20250309T070000
END:DAYLIGHT
BEGIN:STANDARD
TZOFFSETFROM:-0400
TZOFFSETTO:-0500
TZNAME:EST
DTSTART:20251102T060000
END:STANDARD
BEGIN:DAYLIGHT
TZOFFSETFROM:-0500
TZOFFSETTO:-0400
TZNAME:EDT
DTSTART:20260308T070000
END:DAYLIGHT
BEGIN:STANDARD
TZOFFSETFROM:-0400
TZOFFSETTO:-0500
TZNAME:EST
DTSTART:20261101T060000
END:STANDARD
BEGIN:DAYLIGHT
TZOFFSETFROM:-0500
TZOFFSETTO:-0400
TZNAME:EDT
DTSTART:20270314T070000
END:DAYLIGHT
BEGIN:STANDARD
TZOFFSETFROM:-0400
TZOFFSETTO:-0500
TZNAME:EST
DTSTART:20271107T060000
END:STANDARD
END:VTIMEZONE
BEGIN:VEVENT
DTSTART;TZID=America/Detroit:20260505T130000
DTEND;TZID=America/Detroit:20260505T170000
DTSTAMP:20260424T214050
CREATED:20260424T160653Z
LAST-MODIFIED:20260424T160653Z
UID:10001440-1777986000-1778000400@vanburencountymi.gov
SUMMARY:Electronics Recycling Event
DESCRIPTION:Recycling Collection Events in Van Buren County \nVan Buren County partners with the Van Buren Conservation District (VBCD) to bring affordable\, convenient recycling collection events to residents throughout the county. These events make it easier to responsibly dispose of items that don’t belong in your regular trash or recycling bin. \nElectronics Recycling Events \nIn addition to Recycle Roundups\, VBCD offers electronics-only collection opportunities throughout the year in two formats: \nOne-Day Events — Staff will be on-site to answer questions and help you unload. These afternoon events run from 1:00–5:00 PM and travel to different communities across the county. \n\n\n\n\nDate\nLocation\n\n\n\n\nMay 5\, 2026\nPorter Township Hall\, 88040 M-40 Hwy\, Lawton\n\n\nJune 10\, 2026\nBangor Fire Department\, 417 W. Arlington St.\, Bangor\n\n\nJuly 8\, 2026\nHartford Public Library\, 12 Church Street\, Hartford\n\n\nAugust 6\, 2026\nGobles City Park\, Downtown Gobles\n\n\n\n\nTransfer Station Host Days — VBCD’s electronics recycling trailer rotates through local waste and recycling centers throughout the year. Electronics recycling at these locations is open to all Van Buren County residents and landowners. Note that other services at each site are subject to that site’s own rules and may not be available to all residents. \n\n\n\n\nDates\nLocation\n\n\n\n\nMay 9\, 12 & 16\nDecatur Area Waste & Recycling Center\, 300 W. Beers Street\, Decatur\n\n\nJune 13 & 20\nBangor Township Waste & Recycling Center\, 41559 63rd Street\, Bangor\n\n\nJuly 11 & 18\nKeeler Township Transfer Station\, ½ mile south of Keeler on CR 687\, Hartford\n\n\nAugust 8\, 11 & 15\nBloomingdale Recycling Center\, 1 block west of Bloomingdale on Rocky Rd.\, Bloomingdale\n\n\n\n\n\nFor collection\, waste\, and recycling questions\, contact Materials Management Project Manager Kalli Marshall:\nResourceRecovery@VanBurenCD.org\n269-633-9314 \n\nFunding for Van Buren Conservation District collection events is provided in part by Van Buren County. Van Buren County is committed to supporting sustainable waste management opportunities that serve all county residents and landowners.
URL:https://vanburencountymi.gov/event/2026-electronics-recycling-event-porter/
LOCATION:Porter Township Hall\, 88040 M-40 Highway\, Lawton\, MI\, 49065\, United States
CATEGORIES:Public Notices
END:VEVENT
BEGIN:VEVENT
DTSTART;TZID=America/Detroit:20260509T100000
DTEND;TZID=America/Detroit:20260509T140000
DTSTAMP:20260424T214050
CREATED:20260424T160412Z
LAST-MODIFIED:20260424T160412Z
UID:10001460-1778320800-1778335200@vanburencountymi.gov
SUMMARY:Transfer Station Host Days
DESCRIPTION:Recycling Collection Events in Van Buren County \nVan Buren County partners with the Van Buren Conservation District (VBCD) to bring affordable\, convenient recycling collection events to residents throughout the county. These events make it easier to responsibly dispose of items that don’t belong in your regular trash or recycling bin. \nElectronics Recycling Events \nIn addition to Recycle Roundups\, VBCD offers electronics-only collection opportunities throughout the year in two formats: \nOne-Day Events — Staff will be on-site to answer questions and help you unload. These afternoon events run from 1:00–5:00 PM and travel to different communities across the county. \n\n\n\n\nDate\nLocation\n\n\n\n\nMay 5\, 2026\nPorter Township Hall\, 88040 M-40 Hwy\, Lawton\n\n\nJune 10\, 2026\nBangor Fire Department\, 417 W. Arlington St.\, Bangor\n\n\nJuly 8\, 2026\nHartford Public Library\, 12 Church Street\, Hartford\n\n\nAugust 6\, 2026\nGobles City Park\, Downtown Gobles\n\n\n\n\nTransfer Station Host Days — VBCD’s electronics recycling trailer rotates through local waste and recycling centers throughout the year. Electronics recycling at these locations is open to all Van Buren County residents and landowners. Note that other services at each site are subject to that site’s own rules and may not be available to all residents. \n\n\n\n\nDates\nLocation\n\n\n\n\nMay 9\, 12 & 16\nDecatur Area Waste & Recycling Center\, 300 W. Beers Street\, Decatur\n\n\nJune 13 & 20\nBangor Township Waste & Recycling Center\, 41559 63rd Street\, Bangor\n\n\nJuly 11 & 18\nKeeler Township Transfer Station\, ½ mile south of Keeler on CR 687\, Hartford\n\n\nAugust 8\, 11 & 15\nBloomingdale Recycling Center\, 1 block west of Bloomingdale on Rocky Rd.\, Bloomingdale\n\n\n\n\n\nFor collection\, waste\, and recycling questions\, contact Materials Management Project Manager Kalli Marshall:\nResourceRecovery@VanBurenCD.org\n269-633-9314 \n\nFunding for Van Buren Conservation District collection events is provided in part by Van Buren County. Van Buren County is committed to supporting sustainable waste management opportunities that serve all county residents and landowners.
URL:https://vanburencountymi.gov/event/2026-transfer-station-host-days/2026-05-09/
LOCATION:MI
CATEGORIES:Public Notices
END:VEVENT
BEGIN:VEVENT
DTSTART;TZID=America/Detroit:20260606T090000
DTEND;TZID=America/Detroit:20260606T140000
DTSTAMP:20260424T214050
CREATED:20260424T135607Z
LAST-MODIFIED:20260424T152242Z
UID:10001437-1780736400-1780754400@vanburencountymi.gov
SUMMARY:Recycle Roundup
DESCRIPTION:Recycling Collection Events in Van Buren County \nVan Buren County partners with the Van Buren Conservation District (VBCD) to bring affordable\, convenient recycling collection events to residents throughout the county. These events make it easier to responsibly dispose of items that don’t belong in your regular trash or recycling bin. \n\nRecycle Roundups \nRecycle Roundups are VBCD’s largest recycling events of the year\, held three times annually at locations across Van Buren County. Each event runs from 9:00 AM to 2:00 PM and is open to Van Buren County residents and landowners. \nWhat’s collected: Household hazardous waste\, electronics\, tires\, and foam. \nWhat you need to know: \n\nBring proof of Van Buren County residency or landownership (an ID with a county address or a tax bill). New this year – pre-register at https://forms.gle/ESe4H8ytH96DHTuB7\nPre-registration is required if you are bringing tires. Register at forms.gle/ESe4H8ytH96DHTuB7. Watch for a follow-up form sent approximately two weeks before your event date.\nRegistration is optional for attendees not bringing tires.\nTires are accepted on- or off-rim; passenger and semi-sized or smaller only (no oversized tires).\nUp to 10 tires per household are guaranteed; additional tires may be accepted based on capacity.\n\n2026 Recycle Roundup Schedule: \n\n\n\n\nDate\nLocation\n\n\n\n\nJune 6\, 2026\nVan Buren Community Mental Health\, 801 Hazen Street\, Paw Paw\n\n\nAugust 1\, 2026\nSouth Haven Public Works\, 1199 8th Avenue\, South Haven\n\n\nOctober 17\, 2026\nVan Buren ISD Tech Center\, 250 South Street\, Lawrence (enter from South Street)\n\n\n\n\nFor collection\, waste\, and recycling questions\, contact Materials Management Project Manager Kalli Marshall:\nResourceRecovery@VanBurenCD.org\n269-633-9314 \n\nFunding for Van Buren Conservation District collection events is provided in part by Van Buren County. Van Buren County is committed to supporting sustainable waste management opportunities that serve all county residents and landowners.
URL:https://vanburencountymi.gov/event/2026-recycle-roundup-paw-paw/
LOCATION:MI
ATTACH;FMTTYPE=image/png:https://eadn-wc02-15234651.nxedge.io/wp-content/uploads/2026/04/Paw-Paw-Recycle-Roundup-2026.png
END:VEVENT
BEGIN:VEVENT
DTSTART;TZID=America/Detroit:20260610T130000
DTEND;TZID=America/Detroit:20260610T170000
DTSTAMP:20260424T214050
CREATED:20260424T160646Z
LAST-MODIFIED:20260424T160646Z
UID:10001441-1781096400-1781110800@vanburencountymi.gov
SUMMARY:Electronics Recycling Event
DESCRIPTION:Recycling Collection Events in Van Buren County \nVan Buren County partners with the Van Buren Conservation District (VBCD) to bring affordable\, convenient recycling collection events to residents throughout the county. These events make it easier to responsibly dispose of items that don’t belong in your regular trash or recycling bin. \nElectronics Recycling Events \nIn addition to Recycle Roundups\, VBCD offers electronics-only collection opportunities throughout the year in two formats: \nOne-Day Events — Staff will be on-site to answer questions and help you unload. These afternoon events run from 1:00–5:00 PM and travel to different communities across the county. \n\n\n\n\nDate\nLocation\n\n\n\n\nMay 5\, 2026\nPorter Township Hall\, 88040 M-40 Hwy\, Lawton\n\n\nJune 10\, 2026\nBangor Fire Department\, 417 W. Arlington St.\, Bangor\n\n\nJuly 8\, 2026\nHartford Public Library\, 12 Church Street\, Hartford\n\n\nAugust 6\, 2026\nGobles City Park\, Downtown Gobles\n\n\n\n\nTransfer Station Host Days — VBCD’s electronics recycling trailer rotates through local waste and recycling centers throughout the year. Electronics recycling at these locations is open to all Van Buren County residents and landowners. Note that other services at each site are subject to that site’s own rules and may not be available to all residents. \n\n\n\n\nDates\nLocation\n\n\n\n\nMay 9\, 12 & 16\nDecatur Area Waste & Recycling Center\, 300 W. Beers Street\, Decatur\n\n\nJune 13 & 20\nBangor Township Waste & Recycling Center\, 41559 63rd Street\, Bangor\n\n\nJuly 11 & 18\nKeeler Township Transfer Station\, ½ mile south of Keeler on CR 687\, Hartford\n\n\nAugust 8\, 11 & 15\nBloomingdale Recycling Center\, 1 block west of Bloomingdale on Rocky Rd.\, Bloomingdale\n\n\n\n\n\nFor collection\, waste\, and recycling questions\, contact Materials Management Project Manager Kalli Marshall:\nResourceRecovery@VanBurenCD.org\n269-633-9314 \n\nFunding for Van Buren Conservation District collection events is provided in part by Van Buren County. Van Buren County is committed to supporting sustainable waste management opportunities that serve all county residents and landowners.
URL:https://vanburencountymi.gov/event/2026-electronics-recycling-event-bangor/
LOCATION:Bangor Fire Department\, 417 W Arlington Street\, Bangor\, MI\, 49013\, United States
CATEGORIES:Public Notices
END:VEVENT
BEGIN:VEVENT
DTSTART;TZID=America/Detroit:20260708T130000
DTEND;TZID=America/Detroit:20260708T170000
DTSTAMP:20260424T214050
CREATED:20260424T160641Z
LAST-MODIFIED:20260424T160641Z
UID:10001442-1783515600-1783530000@vanburencountymi.gov
SUMMARY:Electronics Recycling Event
DESCRIPTION:Recycling Collection Events in Van Buren County \nVan Buren County partners with the Van Buren Conservation District (VBCD) to bring affordable\, convenient recycling collection events to residents throughout the county. These events make it easier to responsibly dispose of items that don’t belong in your regular trash or recycling bin. \nElectronics Recycling Events \nIn addition to Recycle Roundups\, VBCD offers electronics-only collection opportunities throughout the year in two formats: \nOne-Day Events — Staff will be on-site to answer questions and help you unload. These afternoon events run from 1:00–5:00 PM and travel to different communities across the county. \n\n\n\n\nDate\nLocation\n\n\n\n\nMay 5\, 2026\nPorter Township Hall\, 88040 M-40 Hwy\, Lawton\n\n\nJune 10\, 2026\nBangor Fire Department\, 417 W. Arlington St.\, Bangor\n\n\nJuly 8\, 2026\nHartford Public Library\, 12 Church Street\, Hartford\n\n\nAugust 6\, 2026\nGobles City Park\, Downtown Gobles\n\n\n\n\nTransfer Station Host Days — VBCD’s electronics recycling trailer rotates through local waste and recycling centers throughout the year. Electronics recycling at these locations is open to all Van Buren County residents and landowners. Note that other services at each site are subject to that site’s own rules and may not be available to all residents. \n\n\n\n\nDates\nLocation\n\n\n\n\nMay 9\, 12 & 16\nDecatur Area Waste & Recycling Center\, 300 W. Beers Street\, Decatur\n\n\nJune 13 & 20\nBangor Township Waste & Recycling Center\, 41559 63rd Street\, Bangor\n\n\nJuly 11 & 18\nKeeler Township Transfer Station\, ½ mile south of Keeler on CR 687\, Hartford\n\n\nAugust 8\, 11 & 15\nBloomingdale Recycling Center\, 1 block west of Bloomingdale on Rocky Rd.\, Bloomingdale\n\n\n\n\n\nFor collection\, waste\, and recycling questions\, contact Materials Management Project Manager Kalli Marshall:\nResourceRecovery@VanBurenCD.org\n269-633-9314 \n\nFunding for Van Buren Conservation District collection events is provided in part by Van Buren County. Van Buren County is committed to supporting sustainable waste management opportunities that serve all county residents and landowners.
URL:https://vanburencountymi.gov/event/2026-electronics-recycling-event-hartford/
LOCATION:Hartford Public Library\, 12 Church Street\, Hartford\, MI\, 49057\, United States
CATEGORIES:Public Notices
END:VEVENT
BEGIN:VEVENT
DTSTART;TZID=America/Detroit:20260801T090000
DTEND;TZID=America/Detroit:20260801T140000
DTSTAMP:20260424T214050
CREATED:20260424T135544Z
LAST-MODIFIED:20260424T152227Z
UID:10001438-1785574800-1785592800@vanburencountymi.gov
SUMMARY:Recycle Roundup
DESCRIPTION:Recycling Collection Events in Van Buren County \nVan Buren County partners with the Van Buren Conservation District (VBCD) to bring affordable\, convenient recycling collection events to residents throughout the county. These events make it easier to responsibly dispose of items that don’t belong in your regular trash or recycling bin. \n\nRecycle Roundups \nRecycle Roundups are VBCD’s largest recycling events of the year\, held three times annually at locations across Van Buren County. Each event runs from 9:00 AM to 2:00 PM and is open to Van Buren County residents and landowners. \nWhat’s collected: Household hazardous waste\, electronics\, tires\, and foam. \nWhat you need to know: \n\nBring proof of Van Buren County residency or landownership (an ID with a county address or a tax bill). New this year – pre-register at https://forms.gle/ESe4H8ytH96DHTuB7\nPre-registration is required if you are bringing tires. Register at forms.gle/ESe4H8ytH96DHTuB7. Watch for a follow-up form sent approximately two weeks before your event date.\nRegistration is optional for attendees not bringing tires.\nTires are accepted on- or off-rim; passenger and semi-sized or smaller only (no oversized tires).\nUp to 10 tires per household are guaranteed; additional tires may be accepted based on capacity.\n\n2026 Recycle Roundup Schedule: \n\n\n\n\nDate\nLocation\n\n\n\n\nJune 6\, 2026\nVan Buren Community Mental Health\, 801 Hazen Street\, Paw Paw\n\n\nAugust 1\, 2026\nSouth Haven Public Works\, 1199 8th Avenue\, South Haven\n\n\nOctober 17\, 2026\nVan Buren ISD Tech Center\, 250 South Street\, Lawrence (enter from South Street)\n\n\n\n\nFor collection\, waste\, and recycling questions\, contact Materials Management Project Manager Kalli Marshall:\nResourceRecovery@VanBurenCD.org\n269-633-9314 \n\nFunding for Van Buren Conservation District collection events is provided in part by Van Buren County. Van Buren County is committed to supporting sustainable waste management opportunities that serve all county residents and landowners.
URL:https://vanburencountymi.gov/event/2026-recycle-roundup-south-haven/
LOCATION:South Haven Public Works\, 1199 8th Avenue\, South Haven\, MI\, 49090\, United States
ATTACH;FMTTYPE=image/png:https://eadn-wc02-15234651.nxedge.io/wp-content/uploads/2026/04/Paw-Paw-Recycle-Roundup-2026.png
END:VEVENT
BEGIN:VEVENT
DTSTART;TZID=America/Detroit:20260806T130000
DTEND;TZID=America/Detroit:20260806T170000
DTSTAMP:20260424T214050
CREATED:20260424T160634Z
LAST-MODIFIED:20260424T160634Z
UID:10001443-1786021200-1786035600@vanburencountymi.gov
SUMMARY:Electronics Recycling Event
DESCRIPTION:Recycling Collection Events in Van Buren County \nVan Buren County partners with the Van Buren Conservation District (VBCD) to bring affordable\, convenient recycling collection events to residents throughout the county. These events make it easier to responsibly dispose of items that don’t belong in your regular trash or recycling bin. \nElectronics Recycling Events \nIn addition to Recycle Roundups\, VBCD offers electronics-only collection opportunities throughout the year in two formats: \nOne-Day Events — Staff will be on-site to answer questions and help you unload. These afternoon events run from 1:00–5:00 PM and travel to different communities across the county. \n\n\n\n\nDate\nLocation\n\n\n\n\nMay 5\, 2026\nPorter Township Hall\, 88040 M-40 Hwy\, Lawton\n\n\nJune 10\, 2026\nBangor Fire Department\, 417 W. Arlington St.\, Bangor\n\n\nJuly 8\, 2026\nHartford Public Library\, 12 Church Street\, Hartford\n\n\nAugust 6\, 2026\nGobles City Park\, Downtown Gobles\n\n\n\n\nTransfer Station Host Days — VBCD’s electronics recycling trailer rotates through local waste and recycling centers throughout the year. Electronics recycling at these locations is open to all Van Buren County residents and landowners. Note that other services at each site are subject to that site’s own rules and may not be available to all residents. \n\n\n\n\nDates\nLocation\n\n\n\n\nMay 9\, 12 & 16\nDecatur Area Waste & Recycling Center\, 300 W. Beers Street\, Decatur\n\n\nJune 13 & 20\nBangor Township Waste & Recycling Center\, 41559 63rd Street\, Bangor\n\n\nJuly 11 & 18\nKeeler Township Transfer Station\, ½ mile south of Keeler on CR 687\, Hartford\n\n\nAugust 8\, 11 & 15\nBloomingdale Recycling Center\, 1 block west of Bloomingdale on Rocky Rd.\, Bloomingdale\n\n\n\n\n\nFor collection\, waste\, and recycling questions\, contact Materials Management Project Manager Kalli Marshall:\nResourceRecovery@VanBurenCD.org\n269-633-9314 \n\nFunding for Van Buren Conservation District collection events is provided in part by Van Buren County. Van Buren County is committed to supporting sustainable waste management opportunities that serve all county residents and landowners.
URL:https://vanburencountymi.gov/event/2026-electronics-recycling-event-gobles/
LOCATION:Gobles City Park\, 117 S State Street\, Gobles\, MI\, 49055\, United States
CATEGORIES:Public Notices
END:VEVENT
BEGIN:VEVENT
DTSTART;TZID=America/Detroit:20261017T090000
DTEND;TZID=America/Detroit:20261017T140000
DTSTAMP:20260424T214050
CREATED:20260424T135411Z
LAST-MODIFIED:20260424T152216Z
UID:10001439-1792227600-1792245600@vanburencountymi.gov
SUMMARY:Recycle Roundup
DESCRIPTION:Recycling Collection Events in Van Buren County \nVan Buren County partners with the Van Buren Conservation District (VBCD) to bring affordable\, convenient recycling collection events to residents throughout the county. These events make it easier to responsibly dispose of items that don’t belong in your regular trash or recycling bin. \n\nRecycle Roundups \nRecycle Roundups are VBCD’s largest recycling events of the year\, held three times annually at locations across Van Buren County. Each event runs from 9:00 AM to 2:00 PM and is open to Van Buren County residents and landowners. \nWhat’s collected: Household hazardous waste\, electronics\, tires\, and foam. \nWhat you need to know: \n\nBring proof of Van Buren County residency or landownership (an ID with a county address or a tax bill). New this year – pre-register at https://forms.gle/ESe4H8ytH96DHTuB7\nPre-registration is required if you are bringing tires. Register at forms.gle/ESe4H8ytH96DHTuB7. Watch for a follow-up form sent approximately two weeks before your event date.\nRegistration is optional for attendees not bringing tires.\nTires are accepted on- or off-rim; passenger and semi-sized or smaller only (no oversized tires).\nUp to 10 tires per household are guaranteed; additional tires may be accepted based on capacity.\n\n2026 Recycle Roundup Schedule: \n\n\n\n\nDate\nLocation\n\n\n\n\nJune 6\, 2026\nVan Buren Community Mental Health\, 801 Hazen Street\, Paw Paw\n\n\nAugust 1\, 2026\nSouth Haven Public Works\, 1199 8th Avenue\, South Haven\n\n\nOctober 17\, 2026\nVan Buren ISD Tech Center\, 250 South Street\, Lawrence (enter from South Street)\n\n\n\n\nFor collection\, waste\, and recycling questions\, contact Materials Management Project Manager Kalli Marshall:\nResourceRecovery@VanBurenCD.org\n269-633-9314 \n\nFunding for Van Buren Conservation District collection events is provided in part by Van Buren County. Van Buren County is committed to supporting sustainable waste management opportunities that serve all county residents and landowners.
URL:https://vanburencountymi.gov/event/2026-recycle-roundup-lawrence/
LOCATION:Van Buren ISD Tech Center\, 250 South Street\, Lawrence\, MI\, 49064\, United States
ATTACH;FMTTYPE=image/png:https://eadn-wc02-15234651.nxedge.io/wp-content/uploads/2026/04/Paw-Paw-Recycle-Roundup-2026.png
END:VEVENT
END:VCALENDAR