BEGIN:VCALENDAR
VERSION:2.0
PRODID:-//Van Buren County - ECPv6.15.20//NONSGML v1.0//EN
CALSCALE:GREGORIAN
METHOD:PUBLISH
X-ORIGINAL-URL:https://vanburencountymi.gov
X-WR-CALDESC:Events for Van Buren County
REFRESH-INTERVAL;VALUE=DURATION:PT1H
X-Robots-Tag:noindex
X-PUBLISHED-TTL:PT1H
BEGIN:VTIMEZONE
TZID:America/Detroit
BEGIN:DAYLIGHT
TZOFFSETFROM:-0500
TZOFFSETTO:-0400
TZNAME:EDT
DTSTART:20250309T070000
END:DAYLIGHT
BEGIN:STANDARD
TZOFFSETFROM:-0400
TZOFFSETTO:-0500
TZNAME:EST
DTSTART:20251102T060000
END:STANDARD
BEGIN:DAYLIGHT
TZOFFSETFROM:-0500
TZOFFSETTO:-0400
TZNAME:EDT
DTSTART:20260308T070000
END:DAYLIGHT
BEGIN:STANDARD
TZOFFSETFROM:-0400
TZOFFSETTO:-0500
TZNAME:EST
DTSTART:20261101T060000
END:STANDARD
BEGIN:DAYLIGHT
TZOFFSETFROM:-0500
TZOFFSETTO:-0400
TZNAME:EDT
DTSTART:20270314T070000
END:DAYLIGHT
BEGIN:STANDARD
TZOFFSETFROM:-0400
TZOFFSETTO:-0500
TZNAME:EST
DTSTART:20271107T060000
END:STANDARD
END:VTIMEZONE
BEGIN:VEVENT
DTSTART;TZID=America/Detroit:20260210T110000
DTEND;TZID=America/Detroit:20260210T120000
DTSTAMP:20260425T103942
CREATED:20260206T192719Z
LAST-MODIFIED:20260210T163049Z
UID:10001431-1770721200-1770724800@vanburencountymi.gov
SUMMARY:Parks and Recreation Commission Meeting February 10\, 2026
DESCRIPTION:Click here for the Agenda PDF. \nJust a quick reminder that we will be holding our next Parks and Recreation meeting this Tuesday\, February 10\, 2026\, at 11:00 a.m. in the Board of Commissioners Chambers. \nAs we discussed in January\, we will focus on upcoming 2026 grant opportunities and how they may align with current Parks priorities. \nThe Michigan Natural Resources Trust Fund (MNRTF) for the 2026 cycle continues to favor projects that: \n\nImprove or expand trails and trail connections\, including water access\nProvide public access to natural resources\, especially lakes and rivers\nHave a regional benefit\, serving more than just one community\nIncorporate accessibility improvements\, particularly projects that go beyond minimum ADA standards\nDemonstrate strong public support and readiness\n\nThe intent is to discuss how existing or potential Parks projects may fit well within those priorities and to get early direction from the Commission before moving too far down any one path. \nWe’ll also touch briefly on the County Fairs Capital Improvement Grant Program. As part of that discussion\, staff would like to talk about the signage project as a potential candidate\, particularly as it relates to improving visibility\, wayfinding\, and overall functionality of County facilities. This grant program places value on practical capital improvements that enhance usability\, accessibility\, and long-term benefit\, which aligns well with the goals of the signage effort. \nThis will be an informational discussion\, with the goal of gathering Commission feedback and helping shape next steps.
URL:https://vanburencountymi.gov/event/parks-and-recreation-commission-meeting-february-10-2026/
LOCATION:Board of Commissioners Chambers\, 219 E. Paw Paw Street\, Paw Paw\, Michigan\, 49079\, United States
END:VEVENT
END:VCALENDAR