BEGIN:VCALENDAR
VERSION:2.0
PRODID:-//Van Buren County - ECPv6.15.20//NONSGML v1.0//EN
CALSCALE:GREGORIAN
METHOD:PUBLISH
X-WR-CALNAME:Van Buren County
X-ORIGINAL-URL:https://vanburencountymi.gov
X-WR-CALDESC:Events for Van Buren County
REFRESH-INTERVAL;VALUE=DURATION:PT1H
X-Robots-Tag:noindex
X-PUBLISHED-TTL:PT1H
BEGIN:VTIMEZONE
TZID:America/Detroit
BEGIN:DAYLIGHT
TZOFFSETFROM:-0500
TZOFFSETTO:-0400
TZNAME:EDT
DTSTART:20250309T070000
END:DAYLIGHT
BEGIN:STANDARD
TZOFFSETFROM:-0400
TZOFFSETTO:-0500
TZNAME:EST
DTSTART:20251102T060000
END:STANDARD
BEGIN:DAYLIGHT
TZOFFSETFROM:-0500
TZOFFSETTO:-0400
TZNAME:EDT
DTSTART:20260308T070000
END:DAYLIGHT
BEGIN:STANDARD
TZOFFSETFROM:-0400
TZOFFSETTO:-0500
TZNAME:EST
DTSTART:20261101T060000
END:STANDARD
BEGIN:DAYLIGHT
TZOFFSETFROM:-0500
TZOFFSETTO:-0400
TZNAME:EDT
DTSTART:20270314T070000
END:DAYLIGHT
BEGIN:STANDARD
TZOFFSETFROM:-0400
TZOFFSETTO:-0500
TZNAME:EST
DTSTART:20271107T060000
END:STANDARD
END:VTIMEZONE
BEGIN:VEVENT
DTSTART;VALUE=DATE:20260101
DTEND;VALUE=DATE:20260102
DTSTAMP:20260425T144153
CREATED:20250919T124534Z
LAST-MODIFIED:20250919T124534Z
UID:10001341-1767225600-1767311999@vanburencountymi.gov
SUMMARY:New Years Day
DESCRIPTION:
URL:https://vanburencountymi.gov/event/new-years-day-2/
CATEGORIES:County Holiday Closures
END:VEVENT
BEGIN:VEVENT
DTSTART;VALUE=DATE:20260119
DTEND;VALUE=DATE:20260120
DTSTAMP:20260425T144153
CREATED:20250528T184417Z
LAST-MODIFIED:20250918T200846Z
UID:10001249-1768780800-1768867199@vanburencountymi.gov
SUMMARY:Martin Luther King Jr. Day
DESCRIPTION:The county is closed all day for Martin Luther King Jr. Day.
URL:https://vanburencountymi.gov/event/martin-luther-king-jr-day/2026-01-19/
ATTACH;FMTTYPE=image/jpeg:https://eadn-wc02-15234651.nxedge.io/wp-content/uploads/2025/05/Closed-for-holiday-1.jpg
END:VEVENT
END:VCALENDAR