BEGIN:VCALENDAR
VERSION:2.0
PRODID:-//Van Buren County - ECPv6.15.20//NONSGML v1.0//EN
CALSCALE:GREGORIAN
METHOD:PUBLISH
X-ORIGINAL-URL:https://vanburencountymi.gov
X-WR-CALDESC:Events for Van Buren County
REFRESH-INTERVAL;VALUE=DURATION:PT1H
X-Robots-Tag:noindex
X-PUBLISHED-TTL:PT1H
BEGIN:VTIMEZONE
TZID:America/Detroit
BEGIN:DAYLIGHT
TZOFFSETFROM:-0500
TZOFFSETTO:-0400
TZNAME:EDT
DTSTART:20240310T070000
END:DAYLIGHT
BEGIN:STANDARD
TZOFFSETFROM:-0400
TZOFFSETTO:-0500
TZNAME:EST
DTSTART:20241103T060000
END:STANDARD
BEGIN:DAYLIGHT
TZOFFSETFROM:-0500
TZOFFSETTO:-0400
TZNAME:EDT
DTSTART:20250309T070000
END:DAYLIGHT
BEGIN:STANDARD
TZOFFSETFROM:-0400
TZOFFSETTO:-0500
TZNAME:EST
DTSTART:20251102T060000
END:STANDARD
BEGIN:DAYLIGHT
TZOFFSETFROM:-0500
TZOFFSETTO:-0400
TZNAME:EDT
DTSTART:20260308T070000
END:DAYLIGHT
BEGIN:STANDARD
TZOFFSETFROM:-0400
TZOFFSETTO:-0500
TZNAME:EST
DTSTART:20261101T060000
END:STANDARD
END:VTIMEZONE
BEGIN:VEVENT
DTSTART;TZID=America/Detroit:20251223T110000
DTEND;TZID=America/Detroit:20251223T120000
DTSTAMP:20260425T124431
CREATED:20250821T205136Z
LAST-MODIFIED:20250822T160706Z
UID:10000596-1766487600-1766491200@vanburencountymi.gov
SUMMARY:AI Steering Committee
DESCRIPTION:The Van Buren County AI Steering Committee is a board-appointed group responsible for overseeing all policy-related activities involving artificial intelligence within the county. Its primary purpose is to provide governance\, ensure ethical and effective AI adoption\, and guide the development of standards that align with county goals\, legal requirements\, and public trust. The committee works closely with the AI Task Force and the Digital Information Department to review proposals\, assess risks\, and recommend county-wide policies and strategies for responsible AI use.
URL:https://vanburencountymi.gov/event/ai-steering-committee/2025-12-23/
ATTACH;FMTTYPE=image/png:https://eadn-wc02-15234651.nxedge.io/wp-content/uploads/2025/08/ChatGPT-Image-Aug-21-2025-04_55_31-PM.png
END:VEVENT
END:VCALENDAR