BEGIN:VCALENDAR
VERSION:2.0
PRODID:-//Van Buren County - ECPv6.15.20//NONSGML v1.0//EN
CALSCALE:GREGORIAN
METHOD:PUBLISH
X-WR-CALNAME:Van Buren County
X-ORIGINAL-URL:https://vanburencountymi.gov
X-WR-CALDESC:Events for Van Buren County
REFRESH-INTERVAL;VALUE=DURATION:PT1H
X-Robots-Tag:noindex
X-PUBLISHED-TTL:PT1H
BEGIN:VTIMEZONE
TZID:America/Detroit
BEGIN:DAYLIGHT
TZOFFSETFROM:-0500
TZOFFSETTO:-0400
TZNAME:EDT
DTSTART:20250309T070000
END:DAYLIGHT
BEGIN:STANDARD
TZOFFSETFROM:-0400
TZOFFSETTO:-0500
TZNAME:EST
DTSTART:20251102T060000
END:STANDARD
BEGIN:DAYLIGHT
TZOFFSETFROM:-0500
TZOFFSETTO:-0400
TZNAME:EDT
DTSTART:20260308T070000
END:DAYLIGHT
BEGIN:STANDARD
TZOFFSETFROM:-0400
TZOFFSETTO:-0500
TZNAME:EST
DTSTART:20261101T060000
END:STANDARD
BEGIN:DAYLIGHT
TZOFFSETFROM:-0500
TZOFFSETTO:-0400
TZNAME:EDT
DTSTART:20270314T070000
END:DAYLIGHT
BEGIN:STANDARD
TZOFFSETFROM:-0400
TZOFFSETTO:-0500
TZNAME:EST
DTSTART:20271107T060000
END:STANDARD
END:VTIMEZONE
BEGIN:VEVENT
DTSTART;TZID=America/Detroit:20260512T130000
DTEND;TZID=America/Detroit:20260512T140000
DTSTAMP:20260422T100012
CREATED:20260109T140944Z
LAST-MODIFIED:20260109T142601Z
UID:10001354-1778590800-1778594400@vanburencountymi.gov
SUMMARY:Committee of the Whole Meeting
DESCRIPTION:The Committee of the Whole (COW) meeting is held on the 2nd and 4th Tuesdays of each month at 1:00 PM unless otherwise noted. The Committee of the Whole (COW) meeting is where all presentations and new request will be presented to the Van Buren County Commissioners for initial consent. All items approved at the COW will move to the Board of Commissioners (BOC) next regularly scheduled meeting\, approximately 2 week later\, for final approval and resolution. Some items will not require a resolution and will only be approved or denied by motion. \nAttending a Meeting\nYou can attend these public meetings in person\, via Zoom\, or watch on YouTube Live: \n\nIn Person: Board of Commissioners Chambers\, 219 E. Paw Paw Street\, Second Floor\, Paw Paw\, MI 49079\nZoom: Use this link: https://us02web.zoom.us/j/89123577829\, or enter meeting ID 891 2357 7829 in your Zoom app.\nYouTube Live Streaming: Watch recordings on YouTube Live Streaming.
URL:https://vanburencountymi.gov/event/committee-of-the-whole-meeting-5/2026-05-12/
LOCATION:Board of Commissioners Chambers\, 219 E. Paw Paw Street\, Paw Paw\, Michigan\, 49079\, United States
END:VEVENT
BEGIN:VEVENT
DTSTART;TZID=America/Detroit:20260526T130000
DTEND;TZID=America/Detroit:20260526T140000
DTSTAMP:20260422T100012
CREATED:20260109T142728Z
LAST-MODIFIED:20260415T133928Z
UID:10001390-1779800400-1779804000@vanburencountymi.gov
SUMMARY:Committee of the Whole Meeting
DESCRIPTION:The Committee of the Whole (COW) meeting is held on the 2nd and 4th Tuesdays of each month at 1:00 PM unless otherwise noted. The Committee of the Whole (COW) meeting is where all presentations and new request will be presented to the Van Buren County Commissioners for initial consent. All items approved at the COW will move to the Board of Commissioners (BOC) next regularly scheduled meeting\, approximately 2 week later\, for final approval and resolution. Some items will not require a resolution and will only be approved or denied by motion. \nAttending a Meeting\nYou can attend these public meetings in person\, via Zoom\, or watch on YouTube Live: \n\nIn Person: Board of Commissioners Chambers\, 219 E. Paw Paw Street\, Second Floor\, Paw Paw\, MI 49079\nZoom: Use this link: https://us02web.zoom.us/j/89123577829\, or enter meeting ID 891 2357 7829 in your Zoom app.\nYouTube Live Streaming: Watch recordings on YouTube Live Streaming.
URL:https://vanburencountymi.gov/event/committee-of-the-whole-meeting-6/2026-05-26/
LOCATION:Board of Commissioners Chambers\, 219 E. Paw Paw Street\, Paw Paw\, Michigan\, 49079\, United States
END:VEVENT
BEGIN:VEVENT
DTSTART;TZID=America/Detroit:20260609T130000
DTEND;TZID=America/Detroit:20260609T140000
DTSTAMP:20260422T100012
CREATED:20260109T140944Z
LAST-MODIFIED:20260109T142601Z
UID:10001355-1781010000-1781013600@vanburencountymi.gov
SUMMARY:Committee of the Whole Meeting
DESCRIPTION:The Committee of the Whole (COW) meeting is held on the 2nd and 4th Tuesdays of each month at 1:00 PM unless otherwise noted. The Committee of the Whole (COW) meeting is where all presentations and new request will be presented to the Van Buren County Commissioners for initial consent. All items approved at the COW will move to the Board of Commissioners (BOC) next regularly scheduled meeting\, approximately 2 week later\, for final approval and resolution. Some items will not require a resolution and will only be approved or denied by motion. \nAttending a Meeting\nYou can attend these public meetings in person\, via Zoom\, or watch on YouTube Live: \n\nIn Person: Board of Commissioners Chambers\, 219 E. Paw Paw Street\, Second Floor\, Paw Paw\, MI 49079\nZoom: Use this link: https://us02web.zoom.us/j/89123577829\, or enter meeting ID 891 2357 7829 in your Zoom app.\nYouTube Live Streaming: Watch recordings on YouTube Live Streaming.
URL:https://vanburencountymi.gov/event/committee-of-the-whole-meeting-5/2026-06-09/
LOCATION:Board of Commissioners Chambers\, 219 E. Paw Paw Street\, Paw Paw\, Michigan\, 49079\, United States
END:VEVENT
BEGIN:VEVENT
DTSTART;TZID=America/Detroit:20260623T130000
DTEND;TZID=America/Detroit:20260623T140000
DTSTAMP:20260422T100012
CREATED:20260109T142728Z
LAST-MODIFIED:20260415T133928Z
UID:10001391-1782219600-1782223200@vanburencountymi.gov
SUMMARY:Committee of the Whole Meeting
DESCRIPTION:The Committee of the Whole (COW) meeting is held on the 2nd and 4th Tuesdays of each month at 1:00 PM unless otherwise noted. The Committee of the Whole (COW) meeting is where all presentations and new request will be presented to the Van Buren County Commissioners for initial consent. All items approved at the COW will move to the Board of Commissioners (BOC) next regularly scheduled meeting\, approximately 2 week later\, for final approval and resolution. Some items will not require a resolution and will only be approved or denied by motion. \nAttending a Meeting\nYou can attend these public meetings in person\, via Zoom\, or watch on YouTube Live: \n\nIn Person: Board of Commissioners Chambers\, 219 E. Paw Paw Street\, Second Floor\, Paw Paw\, MI 49079\nZoom: Use this link: https://us02web.zoom.us/j/89123577829\, or enter meeting ID 891 2357 7829 in your Zoom app.\nYouTube Live Streaming: Watch recordings on YouTube Live Streaming.
URL:https://vanburencountymi.gov/event/committee-of-the-whole-meeting-6/2026-06-23/
LOCATION:Board of Commissioners Chambers\, 219 E. Paw Paw Street\, Paw Paw\, Michigan\, 49079\, United States
END:VEVENT
BEGIN:VEVENT
DTSTART;TZID=America/Detroit:20260714T130000
DTEND;TZID=America/Detroit:20260714T140000
DTSTAMP:20260422T100012
CREATED:20260109T140944Z
LAST-MODIFIED:20260109T142601Z
UID:10001356-1784034000-1784037600@vanburencountymi.gov
SUMMARY:Committee of the Whole Meeting
DESCRIPTION:The Committee of the Whole (COW) meeting is held on the 2nd and 4th Tuesdays of each month at 1:00 PM unless otherwise noted. The Committee of the Whole (COW) meeting is where all presentations and new request will be presented to the Van Buren County Commissioners for initial consent. All items approved at the COW will move to the Board of Commissioners (BOC) next regularly scheduled meeting\, approximately 2 week later\, for final approval and resolution. Some items will not require a resolution and will only be approved or denied by motion. \nAttending a Meeting\nYou can attend these public meetings in person\, via Zoom\, or watch on YouTube Live: \n\nIn Person: Board of Commissioners Chambers\, 219 E. Paw Paw Street\, Second Floor\, Paw Paw\, MI 49079\nZoom: Use this link: https://us02web.zoom.us/j/89123577829\, or enter meeting ID 891 2357 7829 in your Zoom app.\nYouTube Live Streaming: Watch recordings on YouTube Live Streaming.
URL:https://vanburencountymi.gov/event/committee-of-the-whole-meeting-5/2026-07-14/
LOCATION:Board of Commissioners Chambers\, 219 E. Paw Paw Street\, Paw Paw\, Michigan\, 49079\, United States
END:VEVENT
BEGIN:VEVENT
DTSTART;TZID=America/Detroit:20260728T130000
DTEND;TZID=America/Detroit:20260728T140000
DTSTAMP:20260422T100012
CREATED:20260109T142728Z
LAST-MODIFIED:20260415T133928Z
UID:10001392-1785243600-1785247200@vanburencountymi.gov
SUMMARY:Committee of the Whole Meeting
DESCRIPTION:The Committee of the Whole (COW) meeting is held on the 2nd and 4th Tuesdays of each month at 1:00 PM unless otherwise noted. The Committee of the Whole (COW) meeting is where all presentations and new request will be presented to the Van Buren County Commissioners for initial consent. All items approved at the COW will move to the Board of Commissioners (BOC) next regularly scheduled meeting\, approximately 2 week later\, for final approval and resolution. Some items will not require a resolution and will only be approved or denied by motion. \nAttending a Meeting\nYou can attend these public meetings in person\, via Zoom\, or watch on YouTube Live: \n\nIn Person: Board of Commissioners Chambers\, 219 E. Paw Paw Street\, Second Floor\, Paw Paw\, MI 49079\nZoom: Use this link: https://us02web.zoom.us/j/89123577829\, or enter meeting ID 891 2357 7829 in your Zoom app.\nYouTube Live Streaming: Watch recordings on YouTube Live Streaming.
URL:https://vanburencountymi.gov/event/committee-of-the-whole-meeting-6/2026-07-28/
LOCATION:Board of Commissioners Chambers\, 219 E. Paw Paw Street\, Paw Paw\, Michigan\, 49079\, United States
END:VEVENT
BEGIN:VEVENT
DTSTART;TZID=America/Detroit:20260811T130000
DTEND;TZID=America/Detroit:20260811T140000
DTSTAMP:20260422T100012
CREATED:20260109T140944Z
LAST-MODIFIED:20260109T142601Z
UID:10001357-1786453200-1786456800@vanburencountymi.gov
SUMMARY:Committee of the Whole Meeting
DESCRIPTION:The Committee of the Whole (COW) meeting is held on the 2nd and 4th Tuesdays of each month at 1:00 PM unless otherwise noted. The Committee of the Whole (COW) meeting is where all presentations and new request will be presented to the Van Buren County Commissioners for initial consent. All items approved at the COW will move to the Board of Commissioners (BOC) next regularly scheduled meeting\, approximately 2 week later\, for final approval and resolution. Some items will not require a resolution and will only be approved or denied by motion. \nAttending a Meeting\nYou can attend these public meetings in person\, via Zoom\, or watch on YouTube Live: \n\nIn Person: Board of Commissioners Chambers\, 219 E. Paw Paw Street\, Second Floor\, Paw Paw\, MI 49079\nZoom: Use this link: https://us02web.zoom.us/j/89123577829\, or enter meeting ID 891 2357 7829 in your Zoom app.\nYouTube Live Streaming: Watch recordings on YouTube Live Streaming.
URL:https://vanburencountymi.gov/event/committee-of-the-whole-meeting-5/2026-08-11/
LOCATION:Board of Commissioners Chambers\, 219 E. Paw Paw Street\, Paw Paw\, Michigan\, 49079\, United States
END:VEVENT
BEGIN:VEVENT
DTSTART;TZID=America/Detroit:20260825T130000
DTEND;TZID=America/Detroit:20260825T140000
DTSTAMP:20260422T100012
CREATED:20260109T142728Z
LAST-MODIFIED:20260415T133928Z
UID:10001393-1787662800-1787666400@vanburencountymi.gov
SUMMARY:Committee of the Whole Meeting
DESCRIPTION:The Committee of the Whole (COW) meeting is held on the 2nd and 4th Tuesdays of each month at 1:00 PM unless otherwise noted. The Committee of the Whole (COW) meeting is where all presentations and new request will be presented to the Van Buren County Commissioners for initial consent. All items approved at the COW will move to the Board of Commissioners (BOC) next regularly scheduled meeting\, approximately 2 week later\, for final approval and resolution. Some items will not require a resolution and will only be approved or denied by motion. \nAttending a Meeting\nYou can attend these public meetings in person\, via Zoom\, or watch on YouTube Live: \n\nIn Person: Board of Commissioners Chambers\, 219 E. Paw Paw Street\, Second Floor\, Paw Paw\, MI 49079\nZoom: Use this link: https://us02web.zoom.us/j/89123577829\, or enter meeting ID 891 2357 7829 in your Zoom app.\nYouTube Live Streaming: Watch recordings on YouTube Live Streaming.
URL:https://vanburencountymi.gov/event/committee-of-the-whole-meeting-6/2026-08-25/
LOCATION:Board of Commissioners Chambers\, 219 E. Paw Paw Street\, Paw Paw\, Michigan\, 49079\, United States
END:VEVENT
BEGIN:VEVENT
DTSTART;TZID=America/Detroit:20260908T130000
DTEND;TZID=America/Detroit:20260908T140000
DTSTAMP:20260422T100012
CREATED:20260109T140944Z
LAST-MODIFIED:20260109T142601Z
UID:10001358-1788872400-1788876000@vanburencountymi.gov
SUMMARY:Committee of the Whole Meeting
DESCRIPTION:The Committee of the Whole (COW) meeting is held on the 2nd and 4th Tuesdays of each month at 1:00 PM unless otherwise noted. The Committee of the Whole (COW) meeting is where all presentations and new request will be presented to the Van Buren County Commissioners for initial consent. All items approved at the COW will move to the Board of Commissioners (BOC) next regularly scheduled meeting\, approximately 2 week later\, for final approval and resolution. Some items will not require a resolution and will only be approved or denied by motion. \nAttending a Meeting\nYou can attend these public meetings in person\, via Zoom\, or watch on YouTube Live: \n\nIn Person: Board of Commissioners Chambers\, 219 E. Paw Paw Street\, Second Floor\, Paw Paw\, MI 49079\nZoom: Use this link: https://us02web.zoom.us/j/89123577829\, or enter meeting ID 891 2357 7829 in your Zoom app.\nYouTube Live Streaming: Watch recordings on YouTube Live Streaming.
URL:https://vanburencountymi.gov/event/committee-of-the-whole-meeting-5/2026-09-08/
LOCATION:Board of Commissioners Chambers\, 219 E. Paw Paw Street\, Paw Paw\, Michigan\, 49079\, United States
END:VEVENT
BEGIN:VEVENT
DTSTART;TZID=America/Detroit:20260922T130000
DTEND;TZID=America/Detroit:20260922T140000
DTSTAMP:20260422T100012
CREATED:20260109T142728Z
LAST-MODIFIED:20260415T133928Z
UID:10001394-1790082000-1790085600@vanburencountymi.gov
SUMMARY:Committee of the Whole Meeting
DESCRIPTION:The Committee of the Whole (COW) meeting is held on the 2nd and 4th Tuesdays of each month at 1:00 PM unless otherwise noted. The Committee of the Whole (COW) meeting is where all presentations and new request will be presented to the Van Buren County Commissioners for initial consent. All items approved at the COW will move to the Board of Commissioners (BOC) next regularly scheduled meeting\, approximately 2 week later\, for final approval and resolution. Some items will not require a resolution and will only be approved or denied by motion. \nAttending a Meeting\nYou can attend these public meetings in person\, via Zoom\, or watch on YouTube Live: \n\nIn Person: Board of Commissioners Chambers\, 219 E. Paw Paw Street\, Second Floor\, Paw Paw\, MI 49079\nZoom: Use this link: https://us02web.zoom.us/j/89123577829\, or enter meeting ID 891 2357 7829 in your Zoom app.\nYouTube Live Streaming: Watch recordings on YouTube Live Streaming.
URL:https://vanburencountymi.gov/event/committee-of-the-whole-meeting-6/2026-09-22/
LOCATION:Board of Commissioners Chambers\, 219 E. Paw Paw Street\, Paw Paw\, Michigan\, 49079\, United States
END:VEVENT
BEGIN:VEVENT
DTSTART;TZID=America/Detroit:20261013T130000
DTEND;TZID=America/Detroit:20261013T140000
DTSTAMP:20260422T100012
CREATED:20260109T140944Z
LAST-MODIFIED:20260109T142601Z
UID:10001359-1791896400-1791900000@vanburencountymi.gov
SUMMARY:Committee of the Whole Meeting
DESCRIPTION:The Committee of the Whole (COW) meeting is held on the 2nd and 4th Tuesdays of each month at 1:00 PM unless otherwise noted. The Committee of the Whole (COW) meeting is where all presentations and new request will be presented to the Van Buren County Commissioners for initial consent. All items approved at the COW will move to the Board of Commissioners (BOC) next regularly scheduled meeting\, approximately 2 week later\, for final approval and resolution. Some items will not require a resolution and will only be approved or denied by motion. \nAttending a Meeting\nYou can attend these public meetings in person\, via Zoom\, or watch on YouTube Live: \n\nIn Person: Board of Commissioners Chambers\, 219 E. Paw Paw Street\, Second Floor\, Paw Paw\, MI 49079\nZoom: Use this link: https://us02web.zoom.us/j/89123577829\, or enter meeting ID 891 2357 7829 in your Zoom app.\nYouTube Live Streaming: Watch recordings on YouTube Live Streaming.
URL:https://vanburencountymi.gov/event/committee-of-the-whole-meeting-5/2026-10-13/
LOCATION:Board of Commissioners Chambers\, 219 E. Paw Paw Street\, Paw Paw\, Michigan\, 49079\, United States
END:VEVENT
BEGIN:VEVENT
DTSTART;TZID=America/Detroit:20261027T130000
DTEND;TZID=America/Detroit:20261027T140000
DTSTAMP:20260422T100012
CREATED:20260109T142728Z
LAST-MODIFIED:20260415T133928Z
UID:10001395-1793106000-1793109600@vanburencountymi.gov
SUMMARY:Committee of the Whole Meeting
DESCRIPTION:The Committee of the Whole (COW) meeting is held on the 2nd and 4th Tuesdays of each month at 1:00 PM unless otherwise noted. The Committee of the Whole (COW) meeting is where all presentations and new request will be presented to the Van Buren County Commissioners for initial consent. All items approved at the COW will move to the Board of Commissioners (BOC) next regularly scheduled meeting\, approximately 2 week later\, for final approval and resolution. Some items will not require a resolution and will only be approved or denied by motion. \nAttending a Meeting\nYou can attend these public meetings in person\, via Zoom\, or watch on YouTube Live: \n\nIn Person: Board of Commissioners Chambers\, 219 E. Paw Paw Street\, Second Floor\, Paw Paw\, MI 49079\nZoom: Use this link: https://us02web.zoom.us/j/89123577829\, or enter meeting ID 891 2357 7829 in your Zoom app.\nYouTube Live Streaming: Watch recordings on YouTube Live Streaming.
URL:https://vanburencountymi.gov/event/committee-of-the-whole-meeting-6/2026-10-27/
LOCATION:Board of Commissioners Chambers\, 219 E. Paw Paw Street\, Paw Paw\, Michigan\, 49079\, United States
END:VEVENT
BEGIN:VEVENT
DTSTART;TZID=America/Detroit:20261110T130000
DTEND;TZID=America/Detroit:20261110T140000
DTSTAMP:20260422T100012
CREATED:20260109T140944Z
LAST-MODIFIED:20260109T142601Z
UID:10001360-1794315600-1794319200@vanburencountymi.gov
SUMMARY:Committee of the Whole Meeting
DESCRIPTION:The Committee of the Whole (COW) meeting is held on the 2nd and 4th Tuesdays of each month at 1:00 PM unless otherwise noted. The Committee of the Whole (COW) meeting is where all presentations and new request will be presented to the Van Buren County Commissioners for initial consent. All items approved at the COW will move to the Board of Commissioners (BOC) next regularly scheduled meeting\, approximately 2 week later\, for final approval and resolution. Some items will not require a resolution and will only be approved or denied by motion. \nAttending a Meeting\nYou can attend these public meetings in person\, via Zoom\, or watch on YouTube Live: \n\nIn Person: Board of Commissioners Chambers\, 219 E. Paw Paw Street\, Second Floor\, Paw Paw\, MI 49079\nZoom: Use this link: https://us02web.zoom.us/j/89123577829\, or enter meeting ID 891 2357 7829 in your Zoom app.\nYouTube Live Streaming: Watch recordings on YouTube Live Streaming.
URL:https://vanburencountymi.gov/event/committee-of-the-whole-meeting-5/2026-11-10/
LOCATION:Board of Commissioners Chambers\, 219 E. Paw Paw Street\, Paw Paw\, Michigan\, 49079\, United States
END:VEVENT
BEGIN:VEVENT
DTSTART;TZID=America/Detroit:20261124T130000
DTEND;TZID=America/Detroit:20261124T140000
DTSTAMP:20260422T100012
CREATED:20260109T142728Z
LAST-MODIFIED:20260415T133928Z
UID:10001396-1795525200-1795528800@vanburencountymi.gov
SUMMARY:Committee of the Whole Meeting
DESCRIPTION:The Committee of the Whole (COW) meeting is held on the 2nd and 4th Tuesdays of each month at 1:00 PM unless otherwise noted. The Committee of the Whole (COW) meeting is where all presentations and new request will be presented to the Van Buren County Commissioners for initial consent. All items approved at the COW will move to the Board of Commissioners (BOC) next regularly scheduled meeting\, approximately 2 week later\, for final approval and resolution. Some items will not require a resolution and will only be approved or denied by motion. \nAttending a Meeting\nYou can attend these public meetings in person\, via Zoom\, or watch on YouTube Live: \n\nIn Person: Board of Commissioners Chambers\, 219 E. Paw Paw Street\, Second Floor\, Paw Paw\, MI 49079\nZoom: Use this link: https://us02web.zoom.us/j/89123577829\, or enter meeting ID 891 2357 7829 in your Zoom app.\nYouTube Live Streaming: Watch recordings on YouTube Live Streaming.
URL:https://vanburencountymi.gov/event/committee-of-the-whole-meeting-6/2026-11-24/
LOCATION:Board of Commissioners Chambers\, 219 E. Paw Paw Street\, Paw Paw\, Michigan\, 49079\, United States
END:VEVENT
BEGIN:VEVENT
DTSTART;TZID=America/Detroit:20261208T130000
DTEND;TZID=America/Detroit:20261208T140000
DTSTAMP:20260422T100012
CREATED:20260109T140944Z
LAST-MODIFIED:20260109T142601Z
UID:10001361-1796734800-1796738400@vanburencountymi.gov
SUMMARY:Committee of the Whole Meeting
DESCRIPTION:The Committee of the Whole (COW) meeting is held on the 2nd and 4th Tuesdays of each month at 1:00 PM unless otherwise noted. The Committee of the Whole (COW) meeting is where all presentations and new request will be presented to the Van Buren County Commissioners for initial consent. All items approved at the COW will move to the Board of Commissioners (BOC) next regularly scheduled meeting\, approximately 2 week later\, for final approval and resolution. Some items will not require a resolution and will only be approved or denied by motion. \nAttending a Meeting\nYou can attend these public meetings in person\, via Zoom\, or watch on YouTube Live: \n\nIn Person: Board of Commissioners Chambers\, 219 E. Paw Paw Street\, Second Floor\, Paw Paw\, MI 49079\nZoom: Use this link: https://us02web.zoom.us/j/89123577829\, or enter meeting ID 891 2357 7829 in your Zoom app.\nYouTube Live Streaming: Watch recordings on YouTube Live Streaming.
URL:https://vanburencountymi.gov/event/committee-of-the-whole-meeting-5/2026-12-08/
LOCATION:Board of Commissioners Chambers\, 219 E. Paw Paw Street\, Paw Paw\, Michigan\, 49079\, United States
END:VEVENT
BEGIN:VEVENT
DTSTART;TZID=America/Detroit:20261222T130000
DTEND;TZID=America/Detroit:20261222T140000
DTSTAMP:20260422T100012
CREATED:20260109T142728Z
LAST-MODIFIED:20260415T133928Z
UID:10001397-1797944400-1797948000@vanburencountymi.gov
SUMMARY:Committee of the Whole Meeting
DESCRIPTION:The Committee of the Whole (COW) meeting is held on the 2nd and 4th Tuesdays of each month at 1:00 PM unless otherwise noted. The Committee of the Whole (COW) meeting is where all presentations and new request will be presented to the Van Buren County Commissioners for initial consent. All items approved at the COW will move to the Board of Commissioners (BOC) next regularly scheduled meeting\, approximately 2 week later\, for final approval and resolution. Some items will not require a resolution and will only be approved or denied by motion. \nAttending a Meeting\nYou can attend these public meetings in person\, via Zoom\, or watch on YouTube Live: \n\nIn Person: Board of Commissioners Chambers\, 219 E. Paw Paw Street\, Second Floor\, Paw Paw\, MI 49079\nZoom: Use this link: https://us02web.zoom.us/j/89123577829\, or enter meeting ID 891 2357 7829 in your Zoom app.\nYouTube Live Streaming: Watch recordings on YouTube Live Streaming.
URL:https://vanburencountymi.gov/event/committee-of-the-whole-meeting-6/2026-12-22/
LOCATION:Board of Commissioners Chambers\, 219 E. Paw Paw Street\, Paw Paw\, Michigan\, 49079\, United States
END:VEVENT
END:VCALENDAR